BEGIN:VCALENDAR
VERSION:2.0
CREATED:20260417T214435Z
PRODID:-//NSTS Bancorp\, Inc./Equisolve Calendar v1.0//EN
METHOD:PUBLISH
BEGIN:VEVENT
UID:497ec56d0cb4412dee39d24f4cf8e6a0
DTSTAMP:20260420T152057Z
DTSTART:20260527T150000Z
DTEND:20260527T160000Z
SUMMARY:2026 Annual Meeting of Stockholders
DESCRIPTION:2026 Annual Meeting of Stockholders
Date: May 27\, 2026 10:00 am CDT
Waukegan\, Illinois
LOCATION:Waukegan\, Illinois
END:VEVENT
END:VCALENDAR
